BEGIN:VCALENDAR
VERSION:2.0
PRODID:-//ALFA Project - ECPv6.15.20//NONSGML v1.0//EN
CALSCALE:GREGORIAN
METHOD:PUBLISH
X-WR-CALNAME:ALFA Project
X-ORIGINAL-URL:https://alfa-res.eu
X-WR-CALDESC:Events for ALFA Project
REFRESH-INTERVAL;VALUE=DURATION:PT1H
X-Robots-Tag:noindex
X-PUBLISHED-TTL:PT1H
BEGIN:VTIMEZONE
TZID:UTC
BEGIN:STANDARD
TZOFFSETFROM:+0000
TZOFFSETTO:+0000
TZNAME:UTC
DTSTART:20230101T000000
END:STANDARD
END:VTIMEZONE
BEGIN:VEVENT
DTSTART;TZID=UTC:20240503T100000
DTEND;TZID=UTC:20240503T170000
DTSTAMP:20260423T211516
CREATED:20240910T085752Z
LAST-MODIFIED:20240910T085752Z
UID:8848-1714730400-1714755600@alfa-res.eu
SUMMARY:#1 Capacity Building Seminar - APRE: Futuristic Prospects for the Development of Biogas in Italy and Europe
DESCRIPTION:Date: May 3\, 2024 (10:00 AM – 5:00 PM)\nLocation: MO.ME.MA – Agricultural Machinery Fair 2024\, Lido di Tarquinia (VT)\, \nAGENDA \nMO.ME.MA Exhibition Space\n10:00 – 10:30\nWelcome and introduction to the seminar – Riccardo Coletta\, APRE\, Agency for the Promotion of European Research \n10:30 – 11:30\nPresentation of the ALFA project and support measures (overview of the first round and preparation for the second) – Flaminia Rocca\, APRE\, Agency for the Promotion of European Research \n11:30 – 1:30 PM\nPresentation of the Decision Support Tool and co-creation activities with stakeholders – Livia Virginia Camillo\, APRE\, Agency for the Promotion of European Research \n1:30 – 3:00 PM\nLunch break \nMO.ME.MA Conference Room\n3:00 – 3:30 PM\nBiogas and biomethane production: case studies and Swedish best practices – Lorenzo Maggioni\, CNR – IIA \n3:30 – 4:00 PM\nChallenges related to authorization processes and social opposition (NIMBY) – Emanuele Vicentini\, Green Evolution Srl \n4:00 – 4:30 PM\nSustainability of biogas systems: the challenge of balancing environmental\, energy\, and economic perspectives with animal welfare – Luca Zambelli\, Consultant on sustainability\, renewable energy\, biogas\, and animal welfare \n4:30 – 5:00 PM\nRoundtable discussion\nModerator: Riccardo Coletta\, APRE\, Agency for the Promotion of European Research
URL:https://alfa-res.eu/event/1-capacity-building-seminar-apre-futuristic-prospects-for-the-development-of-biogas-in-italy-and-europe/
LOCATION:MO.ME.MA – Agricultural Machinery Fair 2024\, Viale dei Tritoni\, Tarquinia\, Viterbo\, 01016\, Italy
CATEGORIES:Project category
ATTACH;FMTTYPE=image/png:https://alfa-res.eu/wp-content/uploads/2024/09/ALFA-Events-site-cover-photo-1920-x-1080-px.png
END:VEVENT
END:VCALENDAR