BEGIN:VCALENDAR
VERSION:2.0
PRODID:-//ALFA Project - ECPv6.15.20//NONSGML v1.0//EN
CALSCALE:GREGORIAN
METHOD:PUBLISH
X-WR-CALNAME:ALFA Project
X-ORIGINAL-URL:https://alfa-res.eu
X-WR-CALDESC:Events for ALFA Project
REFRESH-INTERVAL;VALUE=DURATION:PT1H
X-Robots-Tag:noindex
X-PUBLISHED-TTL:PT1H
BEGIN:VTIMEZONE
TZID:Europe/Brussels
BEGIN:DAYLIGHT
TZOFFSETFROM:+0100
TZOFFSETTO:+0200
TZNAME:CEST
DTSTART:20240331T010000
END:DAYLIGHT
BEGIN:STANDARD
TZOFFSETFROM:+0200
TZOFFSETTO:+0100
TZNAME:CET
DTSTART:20241027T010000
END:STANDARD
BEGIN:DAYLIGHT
TZOFFSETFROM:+0100
TZOFFSETTO:+0200
TZNAME:CEST
DTSTART:20250330T010000
END:DAYLIGHT
BEGIN:STANDARD
TZOFFSETFROM:+0200
TZOFFSETTO:+0100
TZNAME:CET
DTSTART:20251026T010000
END:STANDARD
BEGIN:DAYLIGHT
TZOFFSETFROM:+0100
TZOFFSETTO:+0200
TZNAME:CEST
DTSTART:20260329T010000
END:DAYLIGHT
BEGIN:STANDARD
TZOFFSETFROM:+0200
TZOFFSETTO:+0100
TZNAME:CET
DTSTART:20261025T010000
END:STANDARD
END:VTIMEZONE
BEGIN:VEVENT
DTSTART;TZID=Europe/Brussels:20250319T110000
DTEND;TZID=Europe/Brussels:20250319T120000
DTSTAMP:20260424T173142
CREATED:20250304T110435Z
LAST-MODIFIED:20250317T125433Z
UID:9002-1742382000-1742385600@alfa-res.eu
SUMMARY:#3 Capacity Building Webinar - APRE/SIE: Biogas: A possible\, yet unknown ally
DESCRIPTION:Biogas remains an underappreciated yet powerful resource in the transition towards a circular economy. On Wednesday\, 19 March 2025\, from 11:00 a.m. to 12:00 p.m.\, a thought-provoking webinar titled “Biogas: A Possible\, yet unknown ally” will explore its potential in revolutionising sustainable agriculture. With insights from leading experts\, this session will highlight the role of biogas in reducing the environmental impact of farming while enhancing energy efficiency and economic resilience. Participants will gain valuable knowledge on how small and medium-sized farms can integrate biogas solutions to create self-sufficient and eco-friendly energy systems. \nThe event will feature Luca Zambelli\, a consultant in renewable energy and biogas\, who will share his expertise on implementing tailored energy solutions for agricultural businesses. Lorenzo Maggioni\, a senior biomethane expert and former Head of R&D at the Italian Biogas Consortium\, will provide an in-depth analysis of innovation in the sector and its alignment with European sustainability goals. Additionally\, Roberto Vezzoli\, owner of La Conchetta di Vezzoli Soc. Agr. S.S.\, will present a real-world case study on how his award-winning dairy farm successfully operates a biogas plant\, demonstrating the practical benefits of circular energy management in agriculture. \nBy bringing together specialists with hands-on experience in biogas technology\, policy\, and farm-level implementation\, this webinar aims to bridge the gap between potential and practice. Attendees will gain a comprehensive understanding of how biogas contributes to a more sustainable future\, from reducing waste and emissions to generating renewable energy. Whether you are a farmer\, energy professional\, or sustainability enthusiast\, this session offers a unique opportunity to engage with experts and explore how biogas can be a key driver of the circular economy. \n\n\n\nBLOCK\nSPEAKER\nTIME\n\n\nWelcome and Introduction\nPablo Morales \nSustainable Innovations\n11:00 – 11:05\n\n\nThe ALFA Project\nCarla Sebastiani \nSustainable Innovations\n11:05 – 11:10\n\n\nCircular Economy\nLuca Zambelli \nConsultant in Renewable Energy\, Biogas\, and Animal Welfare\n11:10 – 11:25\n\n\nThe importance of Biogas\nLorenzo Maggioni \nBiomethane Expert\n11:25 – 11:35\n\n\nBest Practice From Italy\nRoberto Vezzoli \nLa Conchetta di Vezoli\n11:35 – 11:45\n\n\nBest Practice From Spain\nLiang Xie \nCycleØ\n11:45 – 11:55\n\n\nQ&A and Satsifaction Survey\nPablo Morales \nSustainable Innovations\n11:55 – 12:00’\n\n\n\nRegister here
URL:https://alfa-res.eu/event/3-capacity-building-webinar-apre-sie/
LOCATION:Online
CATEGORIES:Project category
ATTACH;FMTTYPE=image/png:https://alfa-res.eu/wp-content/uploads/2025/03/ALFA-Events-site-cover-photo-1920-x-1080-px-4.png
END:VEVENT
END:VCALENDAR