BEGIN:VCALENDAR
VERSION:2.0
PRODID:-//ALFA Project - ECPv6.15.20//NONSGML v1.0//EN
CALSCALE:GREGORIAN
METHOD:PUBLISH
X-WR-CALNAME:ALFA Project
X-ORIGINAL-URL:https://alfa-res.eu
X-WR-CALDESC:Events for ALFA Project
REFRESH-INTERVAL;VALUE=DURATION:PT1H
X-Robots-Tag:noindex
X-PUBLISHED-TTL:PT1H
BEGIN:VTIMEZONE
TZID:UTC
BEGIN:STANDARD
TZOFFSETFROM:+0000
TZOFFSETTO:+0000
TZNAME:UTC
DTSTART:20230101T000000
END:STANDARD
END:VTIMEZONE
BEGIN:VEVENT
DTSTART;TZID=UTC:20241015T100000
DTEND;TZID=UTC:20241015T160000
DTSTAMP:20260424T015839
CREATED:20240910T091224Z
LAST-MODIFIED:20241004T124442Z
UID:8857-1728986400-1729008000@alfa-res.eu
SUMMARY:#3 Capacity Building Seminar - Pedal Consulting: Waste-to-Energy: Opportunities and Challenges of Biogas Plants
DESCRIPTION:We are inviting anyone interested to attend a capacity-building seminar focusing on waste management/treatment and its use in the biogas sector. It is organised as an onsite event in Bratislava (Slovakia) on 15. October 2024\, within the Horizon Europe project “ALFA – Scaling up the market uptake of RES by unlocking the biogas potential of agriculture and livestock farming”. \nWho the seminar is designed for: \n\nbiogas plant operators/owners;\nbiogas technology providers\,\nadvisors and local professionals;\nlivestock farmers\, farmer associations;\ngovernments and policy-makers;\nenergy agencies and biogas associations;\nresearchers and scientific community\,\nbiogas end-users and general public.\n\nThe event will be held in the Slovak language. \nWhen:\n15. October 2024 (Tuesday)\, 10:00 – 17:00 CEST \nWhere:\nLOFT Hotel Bratislava ****\, Štefánikova 4\, Bratislava \nPreliminary Agenda*: \nBLOCK 1 – Legislation \n\nThe status and challenges of biodegradable waste processing in biogas plants\n(Slovak Biogas Association)\nApplication of digestate from biodegradable waste\n(Central Inspection and Examination Institute of Agriculture)\nTransport of biodegradable waste\n(State Veterinary and Food Administration of the Slovak Republic)\nPermitting process for the treatment of biodegradable waste for biogas plants\n(Ministry of the Environment of the Slovak Republic)\n\nBLOCK 2 – Practice \n\nAnalysis of the Ministry of Agriculture and Rural Development of the Slovak Republic on feedstocks for biogas plants\n(National Agricultural and Food Centre)\nThe current state of bio-waste\n(Civil Association FreeFood)\nSupport for connection to the “VZT” pipeline in biomethane production\n(Slovenský plynárenský priemysel)\nTechnologies for the processing of biodegradable waste\n(agriKomp)\nOnline marketplace for waste\n(Cyrkl)\nPractical example of the use of bio-waste in a biogas plant\n\n*Agenda subject to change. \nParticipation in the event: \nThe seminar is free of charge.\nRegistration required at: https://shorturl.at/sVx30 \nThe seminar is part of a European series of events “European Biomethane Week“.
URL:https://alfa-res.eu/event/4-capacity-building-seminar-pedal-consulting-waste-to-energy-opportunities-and-challenges-of-biogas-plants/
LOCATION:LOFT Hotel Bratislava\, Štefánikova 864/4\, Bratislava\, 811 05\, Slovakia (Slovak Republic)
CATEGORIES:Project category
ATTACH;FMTTYPE=image/png:https://alfa-res.eu/wp-content/uploads/2024/09/ALFA-Events-site-cover-photo-1920-x-1080-px-1.png
END:VEVENT
END:VCALENDAR