BEGIN:VCALENDAR
VERSION:2.0
PRODID:-//ALFA Project - ECPv6.15.20//NONSGML v1.0//EN
CALSCALE:GREGORIAN
METHOD:PUBLISH
X-WR-CALNAME:ALFA Project
X-ORIGINAL-URL:https://alfa-res.eu
X-WR-CALDESC:Events for ALFA Project
REFRESH-INTERVAL;VALUE=DURATION:PT1H
X-Robots-Tag:noindex
X-PUBLISHED-TTL:PT1H
BEGIN:VTIMEZONE
TZID:UTC
BEGIN:STANDARD
TZOFFSETFROM:+0000
TZOFFSETTO:+0000
TZNAME:UTC
DTSTART:20230101T000000
END:STANDARD
END:VTIMEZONE
BEGIN:VEVENT
DTSTART;TZID=UTC:20240612T093000
DTEND;TZID=UTC:20240612T150000
DTSTAMP:20260424T002250
CREATED:20240529T093743Z
LAST-MODIFIED:20240910T083210Z
UID:8783-1718184600-1718204400@alfa-res.eu
SUMMARY:#2 Capacity Building Seminar: Food and Bio Cluster Denmark seminar: Agriculture's opportunities in the green transition - Landbrugets muligheder i den grønne omstilling
DESCRIPTION:The Danish Hub represented by the Food and Bio Cluster\, in collaboration with GreenFarm\, will host the first ALFA seminar at Gråsten Landbrugsskole\, focusing on agriculture’s role in the green transition. GreenFarm is a Danish initiative aimed at reducing greenhouse gases by utilizing agricultural waste for local energy production and creating optimized fertilizers that minimize nutrient leaching. The seminar will explore how Danish agriculture can mitigate the impact of a forthcoming carbon tax and reduce greenhouse gas emissions. Experts will discuss topics such as the use of biogenic CO2 and financing the green transition. \nDK – Vær med\, når GreenFarm og Food & Bio Cluster Denmark med hjælp fra eksperter sætter den grønne omstilling på agendaen. \nVi dykker ned i landbrugets muligheder for at imødegå en kommende CO2-afgift og giver konkrete svar på\, hvordan dansk landbrug kan reducere klimagasser. På dagen kommer vi omkring forskellige emner inden for CO2 i landbruget\, herunder nyttiggørelse af biogen CO2 og finansiering af den grønne omstilling. \nRegister here
URL:https://alfa-res.eu/event/food-and-bio-cluster-denmark-seminar-agricultures-opportunities-in-the-green-transition-landbrugets-muligheder-i-den-gronne-omstilling/
LOCATION:Gråsten Landbrugsskole Fiskbækvej 15\, 6300 Gråsten\, Fiskbækvej 15\, 6300 Gråsten\, Denmark\, 6300\, Denmark
CATEGORIES:Project category
ATTACH;FMTTYPE=image/png:https://alfa-res.eu/wp-content/uploads/2024/05/flow-7127-3125666-9229-greenfarm1240686.png
END:VEVENT
END:VCALENDAR