BEGIN:VCALENDAR
VERSION:2.0
PRODID:-//ALFA Project - ECPv6.15.20//NONSGML v1.0//EN
CALSCALE:GREGORIAN
METHOD:PUBLISH
X-WR-CALNAME:ALFA Project
X-ORIGINAL-URL:https://alfa-res.eu
X-WR-CALDESC:Events for ALFA Project
REFRESH-INTERVAL;VALUE=DURATION:PT1H
X-Robots-Tag:noindex
X-PUBLISHED-TTL:PT1H
BEGIN:VTIMEZONE
TZID:UTC
BEGIN:STANDARD
TZOFFSETFROM:+0000
TZOFFSETTO:+0000
TZNAME:UTC
DTSTART:20240101T000000
END:STANDARD
END:VTIMEZONE
BEGIN:VEVENT
DTSTART;TZID=UTC:20250612T130000
DTEND;TZID=UTC:20250612T140000
DTSTAMP:20260423T125303
CREATED:20250527T120733Z
LAST-MODIFIED:20250527T120733Z
UID:9081-1749733200-1749736800@alfa-res.eu
SUMMARY:Food and Bio Cluster Denmark Webinar: The use of straw for biogas production
DESCRIPTION:Discover research\, technology and practice behind using straw for biogas – all in a free one-hour session.\n\nStraw is a widely available agricultural product that can be used in biogas production. In this free\, one-hour webinar\, we will look at how straw can be pretreated and included in biogas processes. The session includes insights from recent research\, examples from current technologies\, and practical experiences shared by professionals in the field. \nWho should attend?\n\nBiogas producers and plant operators\nAgricultural advisors and farmers\nResearchers and students in bioenergy or agritech\nPolicymakers and stakeholders in renewable energy\nTechnology developers and consultants\n\nWhether you are already involved in biogas production or simply interested in new solutions for sustainable agriculture\, this webinar offers valuable insights and networking opportunities. \nProgramme\n\n\n\nTime\nTopic\nSpeaker\n\n\n \n\n\n\n\n13.00\nStart of meeting – welcome\nMichael  Støckler\, Senior Innovation Manager\, Food & Bio Cluster Denmark\n\n\n13.05\nPretreatment of straw for biogas production\nMichael Støckler\, Food & Bio Cluster Denmark\n\n\n13.15\nResearch into optimal utilization of straw for biogas production\nHenrik B. Møller\, Professor\, University of Aarhus\n\n\n13.30\nFrom straw to energy\nLars Visgaard Jørgensen\, Project Sales and Business Developer\, Linka Energy\n\n\n13.40\nPractical experiences and economics in the use of straw and deep litter for biogas production\nKimmi Rasmussen\, Technology Process Engineer\, Lundsby Renewable Solutions\n\n\n13.50\nQ&A / Open Discussion\nMichael Støckler\, Food & Bio Cluster Denmark\n\n\n13.55\nConclusion and wrap-up\nMichael Støckler\, Food & Bio Cluster Denmark\n\n\n\n\nRegister here
URL:https://alfa-res.eu/event/food-and-bio-cluster-denmark-webinar-the-use-of-straw-for-biogas-production/
LOCATION:Online
CATEGORIES:Project category
ATTACH;FMTTYPE=image/png:https://alfa-res.eu/wp-content/uploads/2025/05/flow-7127-1299208-23936-halmwebinar1240x686.png
END:VEVENT
END:VCALENDAR