BEGIN:VCALENDAR
VERSION:2.0
PRODID:-//ALFA Project - ECPv6.15.20//NONSGML v1.0//EN
CALSCALE:GREGORIAN
METHOD:PUBLISH
X-WR-CALNAME:ALFA Project
X-ORIGINAL-URL:https://alfa-res.eu
X-WR-CALDESC:Events for ALFA Project
REFRESH-INTERVAL;VALUE=DURATION:PT1H
X-Robots-Tag:noindex
X-PUBLISHED-TTL:PT1H
BEGIN:VTIMEZONE
TZID:UTC
BEGIN:STANDARD
TZOFFSETFROM:+0000
TZOFFSETTO:+0000
TZNAME:UTC
DTSTART:20240101T000000
END:STANDARD
END:VTIMEZONE
BEGIN:VEVENT
DTSTART;TZID=UTC:20250611T110000
DTEND;TZID=UTC:20250611T123000
DTSTAMP:20260423T143838
CREATED:20250522T123934Z
LAST-MODIFIED:20250522T123934Z
UID:9073-1749639600-1749645000@alfa-res.eu
SUMMARY:Webinar on Biogas Framework Conditions: Market Challenges\, Policy Trends & Future Opportunities by SIE
DESCRIPTION:Biogas Framework Conditions: Market Challenges\, Policy Trends & Future Opportunities\n\n\n\nDate & Time: Jun 11\, 2025 12:00 PM\n\n\n\nDescription: Join us for an exclusive webinar hosted by the ALFA Project\, where we will dive into the current framework conditions shaping the future of biogas in Europe and beyond. Discover the market challenges\, evolving policy trends\, and emerging opportunities that are defining the path for biogas innovation and deployment. This session will bring together leading experts from the ALFA consortium and key industry organizations to share valuable insights and concrete policy recommendations for the sector’s future growth. Whether you are a stakeholder in the biogas industry\, a policymaker\, a researcher\, or simply interested in the future of sustainable energy\, this webinar is a unique opportunity to stay ahead of the curve.\n\n11:00 – 11:10 Welcome and Introduction\, Pablo Morales Moya\, Sustainable Innovations.\n11:10 – 11:20 Introducing the ALFA Project\, Carla Sebastiani\, Sustainable Innovations.\n11:20 – 11:40 Market Conditions of ALFA Hubs and Common Challenges\, Carla Sebastiani\, Sustainable Innovations.\n11:40 – 12:00 Policy Context in Europe\, Lucile Sever\, European Biogas Association.\n12:00 – 12:20 Next Steps on Policy Recommendations\, Sofia Michopoulou\, White Research.\n12:20 – 12:30 Q&A Session.\n\nWhy Attend?\n\nLearn about the current market and policy landscape for biogas in Europe.\nGain insights into the ALFA Project’s hubs and real-world challenges.\nUnderstand the latest policy recommendations and what lies ahead.\nConnect with leading experts and stakeholders in the biogas sector.\nParticipate in an interactive Q&A session.\n\nRegister here
URL:https://alfa-res.eu/event/webinar-on-biogas-framework-conditions-market-challenges-policy-trends-future-opportunities-by-sie/
LOCATION:Online
CATEGORIES:Project category
ATTACH;FMTTYPE=image/png:https://alfa-res.eu/wp-content/uploads/2025/05/ALFA-Events-site-cover-photo-1920-x-1080-px-11.png
END:VEVENT
END:VCALENDAR